Package: rnaseqcomp Version: 1.34.0 Command: /Library/Frameworks/R.framework/Resources/bin/R CMD build --keep-empty-dirs --no-resave-data rnaseqcomp StartedAt: 2024-10-16 22:41:27 -0400 (Wed, 16 Oct 2024) EndedAt: 2024-10-16 22:42:08 -0400 (Wed, 16 Oct 2024) EllapsedTime: 41.3 seconds RetCode: 0 Status: OK PackageFile: rnaseqcomp_1.34.0.tar.gz PackageFileSize: 1.531 MiB