Package: rnaseqcomp Version: 1.34.0 Command: /Library/Frameworks/R.framework/Resources/bin/R CMD check --install=check:rnaseqcomp.install-out.txt --library=/Library/Frameworks/R.framework/Resources/library --no-vignettes --timings rnaseqcomp_1.34.0.tar.gz StartedAt: 2024-06-11 03:31:21 -0400 (Tue, 11 Jun 2024) EndedAt: 2024-06-11 03:32:33 -0400 (Tue, 11 Jun 2024) EllapsedTime: 71.4 seconds RetCode: 0 Status: OK CheckDir: rnaseqcomp.Rcheck Warnings: 0