Package: rnaseqcomp Version: 1.34.0 Command: /Library/Frameworks/R.framework/Resources/bin/R CMD build --keep-empty-dirs --no-resave-data rnaseqcomp StartedAt: 2024-06-10 03:39:45 -0400 (Mon, 10 Jun 2024) EndedAt: 2024-06-10 03:40:17 -0400 (Mon, 10 Jun 2024) EllapsedTime: 32.3 seconds RetCode: 0 Status: OK PackageFile: rnaseqcomp_1.34.0.tar.gz PackageFileSize: 1.532 MiB