Package: rnaseqcomp Version: 1.34.0 Command: rm -rf rnaseqcomp.buildbin-libdir && mkdir rnaseqcomp.buildbin-libdir && /Users/biocbuild/BBS/utils/build-universal.sh rnaseqcomp_1.34.0.tar.gz /Library/Frameworks/R.framework/Resources/bin/R rnaseqcomp.buildbin-libdir StartedAt: 2024-06-11 12:54:49 -0400 (Tue, 11 Jun 2024) EndedAt: 2024-06-11 12:54:59 -0400 (Tue, 11 Jun 2024) EllapsedTime: 9.6 seconds RetCode: 0 Status: OK PackageFile: rnaseqcomp_1.34.0.tgz PackageFileSize: 1.696 MiB