Package: rnaEditr Version: 1.14.0 Command: chmod a+r rnaEditr -R && E:\biocbuild\bbs-3.19-bioc\R\bin\R.exe CMD build --keep-empty-dirs --no-resave-data rnaEditr StartedAt: 2024-10-16 21:34:01 -0400 (Wed, 16 Oct 2024) EndedAt: 2024-10-16 21:35:26 -0400 (Wed, 16 Oct 2024) EllapsedTime: 85.1 seconds RetCode: 0 Status: OK PackageFile: rnaEditr_1.14.0.tar.gz PackageFileSize: 1.052 MiB