Package: rnaEditr Version: 1.14.0 Command: rm -rf rnaEditr.buildbin-libdir && mkdir rnaEditr.buildbin-libdir && E:\biocbuild\bbs-3.19-bioc\R\bin\R.exe CMD INSTALL --build --library=rnaEditr.buildbin-libdir rnaEditr_1.14.0.tar.gz StartedAt: 2024-10-17 08:30:41 -0400 (Thu, 17 Oct 2024) EndedAt: 2024-10-17 08:31:35 -0400 (Thu, 17 Oct 2024) EllapsedTime: 54.3 seconds RetCode: 0 Status: OK PackageFile: rnaEditr_1.14.0.zip PackageFileSize: 1.016 MiB