Package: rnaEditr Version: 1.14.0 Command: F:\biocbuild\bbs-3.19-bioc\R\bin\R.exe CMD check --no-multiarch --install=check:rnaEditr.install-out.txt --library=F:\biocbuild\bbs-3.19-bioc\R\library --no-vignettes --timings rnaEditr_1.14.0.tar.gz StartedAt: 2024-06-27 05:29:40 -0400 (Thu, 27 Jun 2024) EndedAt: 2024-06-27 05:34:39 -0400 (Thu, 27 Jun 2024) EllapsedTime: 298.3 seconds RetCode: 0 Status: WARNINGS CheckDir: rnaEditr.Rcheck Warnings: 1