Package: rnaEditr Version: 1.14.0 Command: /home/biocbuild/bbs-3.19-bioc/R/bin/R CMD INSTALL rnaEditr StartedAt: 2024-10-16 16:31:55 -0400 (Wed, 16 Oct 2024) EndedAt: 2024-10-16 16:32:32 -0400 (Wed, 16 Oct 2024) EllapsedTime: 36.8 seconds RetCode: 0 Status: OK