Package: rnaEditr Version: 1.14.0 Command: /Library/Frameworks/R.framework/Resources/bin/R CMD check --install=check:rnaEditr.install-out.txt --library=/Library/Frameworks/R.framework/Resources/library --no-vignettes --timings rnaEditr_1.14.0.tar.gz StartedAt: 2024-10-17 12:00:53 -0400 (Thu, 17 Oct 2024) EndedAt: 2024-10-17 12:11:51 -0400 (Thu, 17 Oct 2024) EllapsedTime: 658.1 seconds RetCode: 0 Status: WARNINGS CheckDir: rnaEditr.Rcheck Warnings: 1