Package: rnaEditr Version: 1.14.0 Command: rm -rf rnaEditr.buildbin-libdir && mkdir rnaEditr.buildbin-libdir && /Users/biocbuild/BBS/utils/build-universal.sh rnaEditr_1.14.0.tar.gz /Library/Frameworks/R.framework/Resources/bin/R rnaEditr.buildbin-libdir StartedAt: 2024-10-17 17:01:22 -0400 (Thu, 17 Oct 2024) EndedAt: 2024-10-17 17:02:53 -0400 (Thu, 17 Oct 2024) EllapsedTime: 91.8 seconds RetCode: 0 Status: OK PackageFile: rnaEditr_1.14.0.tgz PackageFileSize: 1.041 MiB