Package: rnaEditr Version: 1.14.0 Command: rm -rf rnaEditr.buildbin-libdir && mkdir rnaEditr.buildbin-libdir && /Users/biocbuild/BBS/utils/build-universal.sh rnaEditr_1.14.0.tar.gz /Library/Frameworks/R.framework/Resources/bin/R rnaEditr.buildbin-libdir StartedAt: 2024-06-10 00:36:02 -0400 (Mon, 10 Jun 2024) EndedAt: 2024-06-10 00:36:55 -0400 (Mon, 10 Jun 2024) EllapsedTime: 52.8 seconds RetCode: 0 Status: OK PackageFile: rnaEditr_1.14.0.tgz PackageFileSize: 1.041 MiB