Package: rnaEditr Version: 1.14.0 Command: /Library/Frameworks/R.framework/Resources/bin/R CMD build --keep-empty-dirs --no-resave-data rnaEditr StartedAt: 2024-06-10 03:37:29 -0400 (Mon, 10 Jun 2024) EndedAt: 2024-06-10 03:39:13 -0400 (Mon, 10 Jun 2024) EllapsedTime: 103.8 seconds RetCode: 0 Status: OK PackageFile: rnaEditr_1.14.0.tar.gz PackageFileSize: 1.085 MiB