Package: rnaEditr Version: 1.14.0 Command: /Library/Frameworks/R.framework/Resources/bin/R CMD check --install=check:rnaEditr.install-out.txt --library=/Library/Frameworks/R.framework/Resources/library --no-vignettes --timings rnaEditr_1.14.0.tar.gz StartedAt: 2024-10-18 09:54:26 -0400 (Fri, 18 Oct 2024) EndedAt: 2024-10-18 10:00:01 -0400 (Fri, 18 Oct 2024) EllapsedTime: 334.9 seconds RetCode: 0 Status: WARNINGS CheckDir: rnaEditr.Rcheck Warnings: 1