Package: rmspc Version: 1.10.0 Command: E:\biocbuild\bbs-3.19-bioc\R\bin\R.exe CMD INSTALL rmspc StartedAt: 2024-10-16 16:28:21 -0400 (Wed, 16 Oct 2024) EndedAt: 2024-10-16 16:28:57 -0400 (Wed, 16 Oct 2024) EllapsedTime: 35.5 seconds RetCode: 0 Status: OK