Package: rmspc Version: 1.10.0 Command: E:\biocbuild\bbs-3.19-bioc\R\bin\R.exe CMD check --no-multiarch --install=check:rmspc.install-out.txt --library=E:\biocbuild\bbs-3.19-bioc\R\library --no-vignettes --timings rmspc_1.10.0.tar.gz StartedAt: 2024-10-17 05:07:27 -0400 (Thu, 17 Oct 2024) EndedAt: 2024-10-17 05:11:36 -0400 (Thu, 17 Oct 2024) EllapsedTime: 248.8 seconds RetCode: 0 Status: OK CheckDir: rmspc.Rcheck Warnings: 0