Package: rmspc Version: 1.10.0 Command: chmod a+r rmspc -R && E:\biocbuild\bbs-3.19-bioc\R\bin\R.exe CMD build --keep-empty-dirs --no-resave-data rmspc StartedAt: 2024-10-16 21:33:11 -0400 (Wed, 16 Oct 2024) EndedAt: 2024-10-16 21:34:25 -0400 (Wed, 16 Oct 2024) EllapsedTime: 74.4 seconds RetCode: 0 Status: OK PackageFile: rmspc_1.10.0.tar.gz PackageFileSize: 2.129 MiB