Package: rmspc Version: 1.10.0 Command: rm -rf rmspc.buildbin-libdir && mkdir rmspc.buildbin-libdir && E:\biocbuild\bbs-3.19-bioc\R\bin\R.exe CMD INSTALL --build --library=rmspc.buildbin-libdir rmspc_1.10.0.tar.gz StartedAt: 2024-10-17 08:30:35 -0400 (Thu, 17 Oct 2024) EndedAt: 2024-10-17 08:31:16 -0400 (Thu, 17 Oct 2024) EllapsedTime: 41.2 seconds RetCode: 0 Status: OK PackageFile: rmspc_1.10.0.zip PackageFileSize: 2.142 MiB