Package: rmspc Version: 1.10.0 Command: F:\biocbuild\bbs-3.19-bioc\R\bin\R.exe CMD INSTALL rmspc StartedAt: 2024-06-26 16:14:57 -0400 (Wed, 26 Jun 2024) EndedAt: 2024-06-26 16:15:36 -0400 (Wed, 26 Jun 2024) EllapsedTime: 38.8 seconds RetCode: 0 Status: OK