Package: rmspc Version: 1.10.0 Command: chmod a+r rmspc -R && F:\biocbuild\bbs-3.19-bioc\R\bin\R.exe CMD build --keep-empty-dirs --no-resave-data rmspc StartedAt: 2024-06-26 21:26:38 -0400 (Wed, 26 Jun 2024) EndedAt: 2024-06-26 21:27:42 -0400 (Wed, 26 Jun 2024) EllapsedTime: 64.5 seconds RetCode: 0 Status: OK PackageFile: rmspc_1.10.0.tar.gz PackageFileSize: 2.129 MiB