Package: rmspc Version: 1.10.0 Command: /home/biocbuild/bbs-3.19-bioc/R/bin/R CMD check --install=check:rmspc.install-out.txt --library=/home/biocbuild/bbs-3.19-bioc/R/site-library --timings rmspc_1.10.0.tar.gz StartedAt: 2024-10-17 04:26:28 -0400 (Thu, 17 Oct 2024) EndedAt: 2024-10-17 04:31:22 -0400 (Thu, 17 Oct 2024) EllapsedTime: 294.7 seconds RetCode: 0 Status: OK CheckDir: rmspc.Rcheck Warnings: 0