Package: rmspc Version: 1.10.0 Command: rm -rf rmspc.buildbin-libdir && mkdir rmspc.buildbin-libdir && /Users/biocbuild/BBS/utils/build-universal.sh rmspc_1.10.0.tar.gz /Library/Frameworks/R.framework/Resources/bin/R rmspc.buildbin-libdir StartedAt: 2024-10-17 17:01:06 -0400 (Thu, 17 Oct 2024) EndedAt: 2024-10-17 17:02:19 -0400 (Thu, 17 Oct 2024) EllapsedTime: 72.8 seconds RetCode: 0 Status: OK PackageFile: rmspc_1.10.0.tgz PackageFileSize: 2.14 MiB