Package: rmspc Version: 1.10.0 Command: /home/biocbuild/R/R-beta-2024-04-15_r86425/bin/R CMD build --keep-empty-dirs --no-resave-data rmspc StartedAt: 2024-05-09 03:04:47 -0000 (Thu, 09 May 2024) EndedAt: 2024-05-09 03:06:37 -0000 (Thu, 09 May 2024) EllapsedTime: 110.1 seconds RetCode: 0 Status: OK PackageFile: rmspc_1.10.0.tar.gz PackageFileSize: 2.154 MiB