Package: rmspc Version: 1.10.0 Command: /Library/Frameworks/R.framework/Resources/bin/R CMD build --keep-empty-dirs --no-resave-data rmspc StartedAt: 2024-06-10 03:36:58 -0400 (Mon, 10 Jun 2024) EndedAt: 2024-06-10 03:38:10 -0400 (Mon, 10 Jun 2024) EllapsedTime: 72.6 seconds RetCode: 1 Status: ERROR PackageFile: None PackageFileSize: NA