Package: rmspc Version: 1.10.0 Command: rm -rf rmspc.buildbin-libdir && mkdir rmspc.buildbin-libdir && /Users/biocbuild/BBS/utils/build-universal.sh rmspc_1.10.0.tar.gz /Library/Frameworks/R.framework/Resources/bin/R rmspc.buildbin-libdir StartedAt: 2024-10-18 20:22:09 -0400 (Fri, 18 Oct 2024) EndedAt: 2024-10-18 20:22:52 -0400 (Fri, 18 Oct 2024) EllapsedTime: 43.0 seconds RetCode: 0 Status: OK PackageFile: rmspc_1.10.0.tgz PackageFileSize: 2.14 MiB