Package: rmelting Version: 1.20.0 Command: chmod a+r rmelting -R && E:\biocbuild\bbs-3.19-bioc\R\bin\R.exe CMD build --keep-empty-dirs --no-resave-data rmelting StartedAt: 2024-10-16 21:33:04 -0400 (Wed, 16 Oct 2024) EndedAt: 2024-10-16 21:33:59 -0400 (Wed, 16 Oct 2024) EllapsedTime: 54.8 seconds RetCode: 0 Status: OK PackageFile: rmelting_1.20.0.tar.gz PackageFileSize: 2.492 MiB