Package: rmelting Version: 1.20.0 Command: rm -rf rmelting.buildbin-libdir && mkdir rmelting.buildbin-libdir && E:\biocbuild\bbs-3.19-bioc\R\bin\R.exe CMD INSTALL --build --library=rmelting.buildbin-libdir rmelting_1.20.0.tar.gz StartedAt: 2024-10-17 08:30:31 -0400 (Thu, 17 Oct 2024) EndedAt: 2024-10-17 08:30:43 -0400 (Thu, 17 Oct 2024) EllapsedTime: 12.6 seconds RetCode: 0 Status: OK PackageFile: rmelting_1.20.0.zip PackageFileSize: 2.471 MiB