Package: rmelting Version: 1.20.0 Command: rm -rf rmelting.buildbin-libdir && mkdir rmelting.buildbin-libdir && F:\biocbuild\bbs-3.19-bioc\R\bin\R.exe CMD INSTALL --build --library=rmelting.buildbin-libdir rmelting_1.20.0.tar.gz StartedAt: 2024-06-27 08:48:10 -0400 (Thu, 27 Jun 2024) EndedAt: 2024-06-27 08:48:17 -0400 (Thu, 27 Jun 2024) EllapsedTime: 6.4 seconds RetCode: 0 Status: OK PackageFile: rmelting_1.20.0.zip PackageFileSize: 2.471 MiB