Package: rmelting Version: 1.20.0 Command: /home/biocbuild/bbs-3.19-bioc/R/bin/R CMD build --keep-empty-dirs --no-resave-data rmelting StartedAt: 2024-10-16 20:28:52 -0400 (Wed, 16 Oct 2024) EndedAt: 2024-10-16 20:29:16 -0400 (Wed, 16 Oct 2024) EllapsedTime: 24.0 seconds RetCode: 0 Status: OK PackageFile: rmelting_1.20.0.tar.gz PackageFileSize: 2.491 MiB