Package: rmelting Version: 1.20.0 Command: /Library/Frameworks/R.framework/Resources/bin/R CMD build --keep-empty-dirs --no-resave-data rmelting StartedAt: 2024-10-16 22:38:27 -0400 (Wed, 16 Oct 2024) EndedAt: 2024-10-16 22:39:47 -0400 (Wed, 16 Oct 2024) EllapsedTime: 79.6 seconds RetCode: 0 Status: OK PackageFile: rmelting_1.20.0.tar.gz PackageFileSize: 2.491 MiB