Package: rmelting Version: 1.20.0 Command: rm -rf rmelting.buildbin-libdir && mkdir rmelting.buildbin-libdir && /Users/biocbuild/BBS/utils/build-universal.sh rmelting_1.20.0.tar.gz /Library/Frameworks/R.framework/Resources/bin/R rmelting.buildbin-libdir StartedAt: 2024-10-17 17:00:59 -0400 (Thu, 17 Oct 2024) EndedAt: 2024-10-17 17:01:10 -0400 (Thu, 17 Oct 2024) EllapsedTime: 10.2 seconds RetCode: 0 Status: OK PackageFile: rmelting_1.20.0.tgz PackageFileSize: 2.429 MiB