Package: rmelting Version: 1.20.0 Command: rm -rf rmelting.buildbin-libdir && mkdir rmelting.buildbin-libdir && /Users/biocbuild/BBS/utils/build-universal.sh rmelting_1.20.0.tar.gz /Library/Frameworks/R.framework/Resources/bin/R rmelting.buildbin-libdir StartedAt: 2024-06-10 00:35:55 -0400 (Mon, 10 Jun 2024) EndedAt: 2024-06-10 00:36:02 -0400 (Mon, 10 Jun 2024) EllapsedTime: 6.8 seconds RetCode: 0 Status: OK PackageFile: rmelting_1.20.0.tgz PackageFileSize: 2.43 MiB