Package: rmelting Version: 1.20.0 Command: /Library/Frameworks/R.framework/Resources/bin/R CMD build --keep-empty-dirs --no-resave-data rmelting StartedAt: 2024-10-17 07:47:15 -0400 (Thu, 17 Oct 2024) EndedAt: 2024-10-17 07:47:57 -0400 (Thu, 17 Oct 2024) EllapsedTime: 41.9 seconds RetCode: 0 Status: OK PackageFile: rmelting_1.20.0.tar.gz PackageFileSize: 2.489 MiB