Package: rmelting Version: 1.20.0 Maintainer: J. Aravind MaintainerEmail: j.aravind at icar.gov.in git_url: https://git.bioconductor.org/packages/rmelting git_branch: RELEASE_3_19 git_last_commit: 2142fc6 git_last_commit_date: 2024-04-30 11:12:20 -0400 (Tue, 30 Apr 2024)