Package: rifi Version: 1.8.0 Command: /Library/Frameworks/R.framework/Resources/bin/R CMD INSTALL rifi StartedAt: 2024-10-16 16:17:20 -0400 (Wed, 16 Oct 2024) EndedAt: 2024-10-16 16:18:50 -0400 (Wed, 16 Oct 2024) EllapsedTime: 90.1 seconds RetCode: 0 Status: OK