Package: rifi Version: 1.8.0 Command: rm -rf rifi.buildbin-libdir && mkdir rifi.buildbin-libdir && /Users/biocbuild/BBS/utils/build-universal.sh rifi_1.8.0.tar.gz /Library/Frameworks/R.framework/Resources/bin/R rifi.buildbin-libdir StartedAt: 2024-06-11 12:51:09 -0400 (Tue, 11 Jun 2024) EndedAt: 2024-06-11 12:52:28 -0400 (Tue, 11 Jun 2024) EllapsedTime: 79.2 seconds RetCode: 0 Status: OK PackageFile: rifi_1.8.0.tgz PackageFileSize: 4.756 MiB