Package: rifi Version: 1.8.0 Command: /Library/Frameworks/R.framework/Resources/bin/R CMD INSTALL rifi StartedAt: 2024-10-16 17:51:49 -0400 (Wed, 16 Oct 2024) EndedAt: 2024-10-16 17:52:34 -0400 (Wed, 16 Oct 2024) EllapsedTime: 44.8 seconds RetCode: 0 Status: OK