Package: rifi Version: 1.8.0 Command: /Library/Frameworks/R.framework/Resources/bin/R CMD check --install=check:rifi.install-out.txt --library=/Library/Frameworks/R.framework/Resources/library --no-vignettes --timings rifi_1.8.0.tar.gz StartedAt: 2024-10-18 09:39:47 -0400 (Fri, 18 Oct 2024) EndedAt: 2024-10-18 09:51:02 -0400 (Fri, 18 Oct 2024) EllapsedTime: 674.4 seconds RetCode: 0 Status: WARNINGS CheckDir: rifi.Rcheck Warnings: 2