Package: rifi Version: 1.8.0 Command: /Library/Frameworks/R.framework/Resources/bin/R CMD build --keep-empty-dirs --no-resave-data rifi StartedAt: 2024-10-17 07:40:37 -0400 (Thu, 17 Oct 2024) EndedAt: 2024-10-17 07:42:28 -0400 (Thu, 17 Oct 2024) EllapsedTime: 110.5 seconds RetCode: 0 Status: OK PackageFile: rifi_1.8.0.tar.gz PackageFileSize: 7.197 MiB