Package: ribosomeProfilingQC Version: 1.16.0 Command: chmod a+r ribosomeProfilingQC -R && E:\biocbuild\bbs-3.19-bioc\R\bin\R.exe CMD build --keep-empty-dirs --no-resave-data ribosomeProfilingQC StartedAt: 2024-10-16 21:31:29 -0400 (Wed, 16 Oct 2024) EndedAt: 2024-10-16 21:37:54 -0400 (Wed, 16 Oct 2024) EllapsedTime: 385.3 seconds RetCode: 0 Status: OK PackageFile: ribosomeProfilingQC_1.16.0.tar.gz PackageFileSize: 2.607 MiB