Package: ribosomeProfilingQC Version: 1.16.0 Command: rm -rf ribosomeProfilingQC.buildbin-libdir && mkdir ribosomeProfilingQC.buildbin-libdir && E:\biocbuild\bbs-3.19-bioc\R\bin\R.exe CMD INSTALL --build --library=ribosomeProfilingQC.buildbin-libdir ribosomeProfilingQC_1.16.0.tar.gz StartedAt: 2024-10-17 08:30:02 -0400 (Thu, 17 Oct 2024) EndedAt: 2024-10-17 08:31:41 -0400 (Thu, 17 Oct 2024) EllapsedTime: 99.3 seconds RetCode: 0 Status: OK PackageFile: ribosomeProfilingQC_1.16.0.zip PackageFileSize: 3.034 MiB