Package: ribosomeProfilingQC Version: 1.16.0 Command: chmod a+r ribosomeProfilingQC -R && F:\biocbuild\bbs-3.19-bioc\R\bin\R.exe CMD build --keep-empty-dirs --no-resave-data ribosomeProfilingQC StartedAt: 2024-06-26 21:24:47 -0400 (Wed, 26 Jun 2024) EndedAt: 2024-06-26 21:30:24 -0400 (Wed, 26 Jun 2024) EllapsedTime: 336.4 seconds RetCode: 0 Status: OK PackageFile: ribosomeProfilingQC_1.16.0.tar.gz PackageFileSize: 2.607 MiB