Package: ribosomeProfilingQC Version: 1.16.0 Command: rm -rf ribosomeProfilingQC.buildbin-libdir && mkdir ribosomeProfilingQC.buildbin-libdir && F:\biocbuild\bbs-3.19-bioc\R\bin\R.exe CMD INSTALL --build --library=ribosomeProfilingQC.buildbin-libdir ribosomeProfilingQC_1.16.0.tar.gz StartedAt: 2024-06-27 08:47:36 -0400 (Thu, 27 Jun 2024) EndedAt: 2024-06-27 08:48:55 -0400 (Thu, 27 Jun 2024) EllapsedTime: 79.5 seconds RetCode: 0 Status: OK PackageFile: ribosomeProfilingQC_1.16.0.zip PackageFileSize: 3.034 MiB