Package: ribosomeProfilingQC Version: 1.16.0 Command: /home/biocbuild/bbs-3.19-bioc/R/bin/R CMD build --keep-empty-dirs --no-resave-data ribosomeProfilingQC StartedAt: 2024-10-16 20:27:05 -0400 (Wed, 16 Oct 2024) EndedAt: 2024-10-16 20:31:31 -0400 (Wed, 16 Oct 2024) EllapsedTime: 265.7 seconds RetCode: 0 Status: OK PackageFile: ribosomeProfilingQC_1.16.0.tar.gz PackageFileSize: 3.179 MiB