Package: ribosomeProfilingQC Version: 1.16.0 Command: /Library/Frameworks/R.framework/Resources/bin/R CMD check --install=check:ribosomeProfilingQC.install-out.txt --library=/Library/Frameworks/R.framework/Resources/library --no-vignettes --timings ribosomeProfilingQC_1.16.0.tar.gz StartedAt: 2024-10-17 11:54:02 -0400 (Thu, 17 Oct 2024) EndedAt: 2024-10-17 12:13:21 -0400 (Thu, 17 Oct 2024) EllapsedTime: 1158.4 seconds RetCode: 0 Status: OK CheckDir: ribosomeProfilingQC.Rcheck Warnings: 0