Package: ribosomeProfilingQC Version: 1.16.0 Command: /Library/Frameworks/R.framework/Resources/bin/R CMD build --keep-empty-dirs --no-resave-data ribosomeProfilingQC StartedAt: 2024-10-16 22:36:08 -0400 (Wed, 16 Oct 2024) EndedAt: 2024-10-16 22:47:40 -0400 (Wed, 16 Oct 2024) EllapsedTime: 691.9 seconds RetCode: 0 Status: OK PackageFile: ribosomeProfilingQC_1.16.0.tar.gz PackageFileSize: 3.394 MiB