Package: ribosomeProfilingQC Version: 1.16.0 Command: /Library/Frameworks/R.framework/Resources/bin/R CMD check --install=check:ribosomeProfilingQC.install-out.txt --library=/Library/Frameworks/R.framework/Resources/library --no-vignettes --timings ribosomeProfilingQC_1.16.0.tar.gz StartedAt: 2024-06-09 22:36:18 -0400 (Sun, 09 Jun 2024) EndedAt: 2024-06-09 22:45:18 -0400 (Sun, 09 Jun 2024) EllapsedTime: 539.6 seconds RetCode: 0 Status: OK CheckDir: ribosomeProfilingQC.Rcheck Warnings: 0