Package: ribosomeProfilingQC Version: 1.16.0 Command: /home/biocbuild/R/R-beta-2024-04-15_r86425/bin/R CMD build --keep-empty-dirs --no-resave-data ribosomeProfilingQC StartedAt: 2024-05-09 03:01:29 -0000 (Thu, 09 May 2024) EndedAt: 2024-05-09 03:09:29 -0000 (Thu, 09 May 2024) EllapsedTime: 479.6 seconds RetCode: 0 Status: OK PackageFile: ribosomeProfilingQC_1.16.0.tar.gz PackageFileSize: 2.865 MiB