Package: ribosomeProfilingQC Version: 1.16.0 Command: /Library/Frameworks/R.framework/Resources/bin/R CMD check --install=check:ribosomeProfilingQC.install-out.txt --library=/Library/Frameworks/R.framework/Resources/library --no-vignettes --timings ribosomeProfilingQC_1.16.0.tar.gz StartedAt: 2024-10-18 09:39:47 -0400 (Fri, 18 Oct 2024) EndedAt: 2024-10-18 09:49:49 -0400 (Fri, 18 Oct 2024) EllapsedTime: 602.0 seconds RetCode: 0 Status: OK CheckDir: ribosomeProfilingQC.Rcheck Warnings: 0