Package: ribosomeProfilingQC Version: 1.16.0 Command: /Library/Frameworks/R.framework/Resources/bin/R CMD build --keep-empty-dirs --no-resave-data ribosomeProfilingQC StartedAt: 2024-10-17 07:40:23 -0400 (Thu, 17 Oct 2024) EndedAt: 2024-10-17 07:46:17 -0400 (Thu, 17 Oct 2024) EllapsedTime: 353.7 seconds RetCode: 0 Status: OK PackageFile: ribosomeProfilingQC_1.16.0.tar.gz PackageFileSize: 3.395 MiB