Package: ribor Version: 1.16.0 Command: E:\biocbuild\bbs-3.19-bioc\R\bin\R.exe CMD INSTALL ribor StartedAt: 2024-10-16 16:08:39 -0400 (Wed, 16 Oct 2024) EndedAt: 2024-10-16 16:09:10 -0400 (Wed, 16 Oct 2024) EllapsedTime: 30.9 seconds RetCode: 0 Status: OK